BEGIN:VCALENDAR
VERSION:2.0
PRODID:-//Doddiscombsleigh Parish Council//Meeting Calendar//EN
CALSCALE:GREGORIAN
METHOD:PUBLISH
BEGIN:VEVENT
UID:70582-20231205@doddiscombsleighparishcouncil.gov.uk
DTSTAMP:20260424T233157Z
DTSTART;VALUE=DATE:20231205
DTEND;VALUE=DATE:20231206
SUMMARY:Extraordinary Meeting &#8211\\; 5th December 2023
DESCRIPTION:Full Council Meeting\nView details: https://doddiscombsleighparishcouncil.gov.uk/meetings/extraordinary-meeting-5th-december-2023/
URL:https://doddiscombsleighparishcouncil.gov.uk/meetings/extraordinary-meeting-5th-december-2023/
END:VEVENT
END:VCALENDAR
