BEGIN:VCALENDAR
VERSION:2.0
PRODID:-//Doddiscombsleigh Parish Council//Meeting Calendar//EN
CALSCALE:GREGORIAN
METHOD:PUBLISH
BEGIN:VEVENT
UID:70596-20230711@doddiscombsleighparishcouncil.gov.uk
DTSTAMP:20260424T234006Z
DTSTART;VALUE=DATE:20230711
DTEND;VALUE=DATE:20230712
SUMMARY:Ordinary Meeting &#8211\\; 11th July 2023
DESCRIPTION:Full Council Meeting\nView details: https://doddiscombsleighparishcouncil.gov.uk/meetings/ordinary-meeting-11th-july-2023/
URL:https://doddiscombsleighparishcouncil.gov.uk/meetings/ordinary-meeting-11th-july-2023/
END:VEVENT
END:VCALENDAR
