BEGIN:VCALENDAR
VERSION:2.0
PRODID:-//Doddiscombsleigh Parish Council//Meeting Calendar//EN
CALSCALE:GREGORIAN
METHOD:PUBLISH
BEGIN:VEVENT
UID:70603-20230425@doddiscombsleighparishcouncil.gov.uk
DTSTAMP:20260424T214140Z
DTSTART;VALUE=DATE:20230425
DTEND;VALUE=DATE:20230426
SUMMARY:Ordinary Meeting &#8211\\; 25th April 2023
DESCRIPTION:Full Council Meeting\nView details: https://doddiscombsleighparishcouncil.gov.uk/meetings/ordinary-meeting-25th-april-2023/
URL:https://doddiscombsleighparishcouncil.gov.uk/meetings/ordinary-meeting-25th-april-2023/
END:VEVENT
END:VCALENDAR
