BEGIN:VCALENDAR
VERSION:2.0
PRODID:-//Doddiscombsleigh Parish Council//Meeting Calendar//EN
CALSCALE:GREGORIAN
METHOD:PUBLISH
BEGIN:VEVENT
UID:70609-20230207@doddiscombsleighparishcouncil.gov.uk
DTSTAMP:20260424T214020Z
DTSTART;VALUE=DATE:20230207
DTEND;VALUE=DATE:20230208
SUMMARY:Ordinary Meeting -7th February 2023
DESCRIPTION:Full Council Meeting\nView details: https://doddiscombsleighparishcouncil.gov.uk/meetings/ordinary-meeting-7th-february-2023/
URL:https://doddiscombsleighparishcouncil.gov.uk/meetings/ordinary-meeting-7th-february-2023/
END:VEVENT
END:VCALENDAR
