BEGIN:VCALENDAR
VERSION:2.0
PRODID:-//Doddiscombsleigh Parish Council//Meeting Calendar//EN
CALSCALE:GREGORIAN
METHOD:PUBLISH
BEGIN:VEVENT
UID:70630-20210107@doddiscombsleighparishcouncil.gov.uk
DTSTAMP:20260424T164735Z
DTSTART;VALUE=DATE:20210107
DTEND;VALUE=DATE:20210108
SUMMARY:Ordinary Meeting &#8211\\; 7th January 2021
DESCRIPTION:Full Council Meeting\nView details: https://doddiscombsleighparishcouncil.gov.uk/meetings/ordinary-meeting-7th-january-2021/
URL:https://doddiscombsleighparishcouncil.gov.uk/meetings/ordinary-meeting-7th-january-2021/
END:VEVENT
END:VCALENDAR
