BEGIN:VCALENDAR
VERSION:2.0
PRODID:-//Doddiscombsleigh Parish Council//Meeting Calendar//EN
CALSCALE:GREGORIAN
METHOD:PUBLISH
BEGIN:VEVENT
UID:70633-20210128@doddiscombsleighparishcouncil.gov.uk
DTSTAMP:20260424T165308Z
DTSTART;VALUE=DATE:20210128
DTEND;VALUE=DATE:20210129
SUMMARY:Extraordinary Meeting &#8211\\; 28th January 2021
DESCRIPTION:Full Council Meeting\nView details: https://doddiscombsleighparishcouncil.gov.uk/meetings/extraordinary-meeting-28th-january-2021/
URL:https://doddiscombsleighparishcouncil.gov.uk/meetings/extraordinary-meeting-28th-january-2021/
END:VEVENT
END:VCALENDAR
