BEGIN:VCALENDAR
VERSION:2.0
PRODID:-//Doddiscombsleigh Parish Council//Meeting Calendar//EN
CALSCALE:GREGORIAN
METHOD:PUBLISH
BEGIN:VEVENT
UID:70634-20221108@doddiscombsleighparishcouncil.gov.uk
DTSTAMP:20260424T200616Z
DTSTART;VALUE=DATE:20221108
DTEND;VALUE=DATE:20221109
SUMMARY:Ordinary Meeting &#8211\\; 8th November 2022
DESCRIPTION:Full Council Meeting\nView details: https://doddiscombsleighparishcouncil.gov.uk/meetings/ordinary-meeting-8th-november-2022/
URL:https://doddiscombsleighparishcouncil.gov.uk/meetings/ordinary-meeting-8th-november-2022/
END:VEVENT
END:VCALENDAR
