BEGIN:VCALENDAR
VERSION:2.0
PRODID:-//Doddiscombsleigh Parish Council//Meeting Calendar//EN
CALSCALE:GREGORIAN
METHOD:PUBLISH
BEGIN:VEVENT
UID:70661-20211111@doddiscombsleighparishcouncil.gov.uk
DTSTAMP:20260424T182739Z
DTSTART;VALUE=DATE:20211111
DTEND;VALUE=DATE:20211112
SUMMARY:Ordinary Meeting &#8211\\; 11th November 2021
DESCRIPTION:Full Council Meeting\nView details: https://doddiscombsleighparishcouncil.gov.uk/meetings/ordinary-meeting-11th-november-2021/
URL:https://doddiscombsleighparishcouncil.gov.uk/meetings/ordinary-meeting-11th-november-2021/
END:VEVENT
END:VCALENDAR
