BEGIN:VCALENDAR
VERSION:2.0
PRODID:-//Doddiscombsleigh Parish Council//Meeting Calendar//EN
CALSCALE:GREGORIAN
METHOD:PUBLISH
BEGIN:VEVENT
UID:70667-20221213@doddiscombsleighparishcouncil.gov.uk
DTSTAMP:20260424T200616Z
DTSTART;VALUE=DATE:20221213
DTEND;VALUE=DATE:20221214
SUMMARY:Ordinary Meeting &#8211\\; 13th December 2022
DESCRIPTION:Full Council Meeting\nView details: https://doddiscombsleighparishcouncil.gov.uk/meetings/ordinary-meeting-13th-december-2022/
URL:https://doddiscombsleighparishcouncil.gov.uk/meetings/ordinary-meeting-13th-december-2022/
END:VEVENT
END:VCALENDAR
