BEGIN:VCALENDAR
VERSION:2.0
PRODID:-//Doddiscombsleigh Parish Council//Meeting Calendar//EN
CALSCALE:GREGORIAN
METHOD:PUBLISH
BEGIN:VEVENT
UID:70731-20240109@doddiscombsleighparishcouncil.gov.uk
DTSTAMP:20260424T233254Z
DTSTART;VALUE=DATE:20240109
DTEND;VALUE=DATE:20240110
SUMMARY:Ordinary Meeting &#8211\\; 9th January 2024
DESCRIPTION:Full Council Meeting\nView details: https://doddiscombsleighparishcouncil.gov.uk/meetings/ordinary-meeting-9th-january-2024/
URL:https://doddiscombsleighparishcouncil.gov.uk/meetings/ordinary-meeting-9th-january-2024/
END:VEVENT
END:VCALENDAR
