BEGIN:VCALENDAR
VERSION:2.0
PRODID:-//Doddiscombsleigh Parish Council//Meeting Calendar//EN
CALSCALE:GREGORIAN
METHOD:PUBLISH
BEGIN:VEVENT
UID:70780-20240206@doddiscombsleighparishcouncil.gov.uk
DTSTAMP:20260424T233723Z
DTSTART;VALUE=DATE:20240206
DTEND;VALUE=DATE:20240207
SUMMARY:Council Meeting &#8211\\; 6 February 2024
DESCRIPTION:Full Council Meeting\nView details: https://doddiscombsleighparishcouncil.gov.uk/meetings/council-meeting-6-february-2024/
URL:https://doddiscombsleighparishcouncil.gov.uk/meetings/council-meeting-6-february-2024/
END:VEVENT
END:VCALENDAR
