BEGIN:VCALENDAR
VERSION:2.0
PRODID:-//Doddiscombsleigh Parish Council//Meeting Calendar//EN
CALSCALE:GREGORIAN
METHOD:PUBLISH
BEGIN:VEVENT
UID:70782-20240312@doddiscombsleighparishcouncil.gov.uk
DTSTAMP:20260424T214134Z
DTSTART;VALUE=DATE:20240312
DTEND;VALUE=DATE:20240313
SUMMARY:Council Meeting &#8211\\; 12 March 2024
DESCRIPTION:Full Council Meeting\nView details: https://doddiscombsleighparishcouncil.gov.uk/meetings/council-meeting-12-march-2024/
URL:https://doddiscombsleighparishcouncil.gov.uk/meetings/council-meeting-12-march-2024/
END:VEVENT
END:VCALENDAR
