BEGIN:VCALENDAR
VERSION:2.0
PRODID:-//Doddiscombsleigh Parish Council//Meeting Calendar//EN
CALSCALE:GREGORIAN
METHOD:PUBLISH
BEGIN:VEVENT
UID:70840-20240416@doddiscombsleighparishcouncil.gov.uk
DTSTAMP:20260424T213914Z
DTSTART;VALUE=DATE:20240416
DTEND;VALUE=DATE:20240417
SUMMARY:Ordinary Council Meeting &#8211\\; 16 April 2024
DESCRIPTION:Full Council Meeting\nView details: https://doddiscombsleighparishcouncil.gov.uk/meetings/ordinary-council-meeting-16-april-2024/
URL:https://doddiscombsleighparishcouncil.gov.uk/meetings/ordinary-council-meeting-16-april-2024/
END:VEVENT
END:VCALENDAR
