BEGIN:VCALENDAR
VERSION:2.0
PRODID:-//Doddiscombsleigh Parish Council//Meeting Calendar//EN
CALSCALE:GREGORIAN
METHOD:PUBLISH
BEGIN:VEVENT
UID:70897-20240709@doddiscombsleighparishcouncil.gov.uk
DTSTAMP:20260424T202515Z
DTSTART;VALUE=DATE:20240709
DTEND;VALUE=DATE:20240710
SUMMARY:Ordinary Council Meeting &#8211\\; 9 July 2024
DESCRIPTION:Full Council Meeting\nView details: https://doddiscombsleighparishcouncil.gov.uk/meetings/ordinary-council-meeting-9-july-2024/
URL:https://doddiscombsleighparishcouncil.gov.uk/meetings/ordinary-council-meeting-9-july-2024/
END:VEVENT
END:VCALENDAR
