BEGIN:VCALENDAR
VERSION:2.0
PRODID:-//Doddiscombsleigh Parish Council//Meeting Calendar//EN
CALSCALE:GREGORIAN
METHOD:PUBLISH
BEGIN:VEVENT
UID:70898-20240910@doddiscombsleighparishcouncil.gov.uk
DTSTAMP:20260424T202658Z
DTSTART;VALUE=DATE:20240910
DTEND;VALUE=DATE:20240911
SUMMARY:Ordinary Council Meeting – 10 September 2024
DESCRIPTION:Full Council Meeting\nView details: https://doddiscombsleighparishcouncil.gov.uk/meetings/ordinary-council-meeting-10-sep-2024/
URL:https://doddiscombsleighparishcouncil.gov.uk/meetings/ordinary-council-meeting-10-sep-2024/
END:VEVENT
END:VCALENDAR
