BEGIN:VCALENDAR
VERSION:2.0
PRODID:-//Doddiscombsleigh Parish Council//Meeting Calendar//EN
CALSCALE:GREGORIAN
METHOD:PUBLISH
BEGIN:VEVENT
UID:70900-20241112@doddiscombsleighparishcouncil.gov.uk
DTSTAMP:20260424T203149Z
DTSTART;VALUE=DATE:20241112
DTEND;VALUE=DATE:20241113
SUMMARY:Ordinary Council Meeting – 12 November 2024
DESCRIPTION:Full Council Meeting\nView details: https://doddiscombsleighparishcouncil.gov.uk/meetings/ordinary-council-meeting-12-november-2024/
URL:https://doddiscombsleighparishcouncil.gov.uk/meetings/ordinary-council-meeting-12-november-2024/
END:VEVENT
END:VCALENDAR
