BEGIN:VCALENDAR
VERSION:2.0
PRODID:-//Doddiscombsleigh Parish Council//Meeting Calendar//EN
CALSCALE:GREGORIAN
METHOD:PUBLISH
BEGIN:VEVENT
UID:70901-20250114@doddiscombsleighparishcouncil.gov.uk
DTSTAMP:20260424T182557Z
DTSTART;VALUE=DATE:20250114
DTEND;VALUE=DATE:20250115
SUMMARY:Ordinary Council Meeting – 14 January 2025
DESCRIPTION:Full Council Meeting\nView details: https://doddiscombsleighparishcouncil.gov.uk/meetings/ordinary-council-meeting-14-january-2025/
URL:https://doddiscombsleighparishcouncil.gov.uk/meetings/ordinary-council-meeting-14-january-2025/
END:VEVENT
END:VCALENDAR
