BEGIN:VCALENDAR
VERSION:2.0
PRODID:-//Doddiscombsleigh Parish Council//Meeting Calendar//EN
CALSCALE:GREGORIAN
METHOD:PUBLISH
BEGIN:VEVENT
UID:70902-20250211@doddiscombsleighparishcouncil.gov.uk
DTSTAMP:20260424T182557Z
DTSTART;VALUE=DATE:20250211
DTEND;VALUE=DATE:20250212
SUMMARY:Ordinary Council Meeting – 11 February 2025
DESCRIPTION:Full Council Meeting\nView details: https://doddiscombsleighparishcouncil.gov.uk/meetings/ordinary-council-meeting-11-february-2025/
URL:https://doddiscombsleighparishcouncil.gov.uk/meetings/ordinary-council-meeting-11-february-2025/
END:VEVENT
END:VCALENDAR
