BEGIN:VCALENDAR
VERSION:2.0
PRODID:-//Doddiscombsleigh Parish Council//Meeting Calendar//EN
CALSCALE:GREGORIAN
METHOD:PUBLISH
BEGIN:VEVENT
UID:70904-20250520@doddiscombsleighparishcouncil.gov.uk
DTSTAMP:20260424T120026Z
DTSTART;VALUE=DATE:20250520
DTEND;VALUE=DATE:20250521
SUMMARY:Annual Council Meeting – 20 May 2025
DESCRIPTION:Annual Council Meeting\nView details: https://doddiscombsleighparishcouncil.gov.uk/meetings/annual-council-meeting-20-may-2025/
URL:https://doddiscombsleighparishcouncil.gov.uk/meetings/annual-council-meeting-20-may-2025/
END:VEVENT
END:VCALENDAR
