BEGIN:VCALENDAR
VERSION:2.0
PRODID:-//Doddiscombsleigh Parish Council//Meeting Calendar//EN
CALSCALE:GREGORIAN
METHOD:PUBLISH
BEGIN:VEVENT
UID:71203-20250708@doddiscombsleighparishcouncil.gov.uk
DTSTAMP:20260424T164644Z
DTSTART;VALUE=DATE:20250708
DTEND;VALUE=DATE:20250709
SUMMARY:Ordinary Council Meeting &#8211\\; 8 July 2025
DESCRIPTION:Full Council Meeting\nView details: https://doddiscombsleighparishcouncil.gov.uk/meetings/ordinary-council-meeting/
URL:https://doddiscombsleighparishcouncil.gov.uk/meetings/ordinary-council-meeting/
END:VEVENT
END:VCALENDAR
