BEGIN:VCALENDAR
VERSION:2.0
PRODID:-//Doddiscombsleigh Parish Council//Meeting Calendar//EN
CALSCALE:GREGORIAN
METHOD:PUBLISH
BEGIN:VEVENT
UID:71204-20250909@doddiscombsleighparishcouncil.gov.uk
DTSTAMP:20260424T170553Z
DTSTART;VALUE=DATE:20250909
DTEND;VALUE=DATE:20250910
SUMMARY:Ordinary Council Meeting &#8211\\; 9 September 2025
DESCRIPTION:Full Council Meeting\nView details: https://doddiscombsleighparishcouncil.gov.uk/meetings/ordinary-council-meeting-9-september-2025/
URL:https://doddiscombsleighparishcouncil.gov.uk/meetings/ordinary-council-meeting-9-september-2025/
END:VEVENT
END:VCALENDAR
