BEGIN:VCALENDAR
VERSION:2.0
PRODID:-//Doddiscombsleigh Parish Council//Meeting Calendar//EN
CALSCALE:GREGORIAN
METHOD:PUBLISH
BEGIN:VEVENT
UID:71205-20251014@doddiscombsleighparishcouncil.gov.uk
DTSTAMP:20260424T165318Z
DTSTART;VALUE=DATE:20251014
DTEND;VALUE=DATE:20251015
SUMMARY:Ordinary Council Meeting &#8211\\; 14 October 2025
DESCRIPTION:Full Council Meeting\nView details: https://doddiscombsleighparishcouncil.gov.uk/meetings/ordinary-council-meeting-14-october-2025/
URL:https://doddiscombsleighparishcouncil.gov.uk/meetings/ordinary-council-meeting-14-october-2025/
END:VEVENT
END:VCALENDAR
