BEGIN:VCALENDAR
VERSION:2.0
PRODID:-//Doddiscombsleigh Parish Council//Meeting Calendar//EN
CALSCALE:GREGORIAN
METHOD:PUBLISH
BEGIN:VEVENT
UID:71210-20260519@doddiscombsleighparishcouncil.gov.uk
DTSTAMP:20260424T102057Z
DTSTART;VALUE=DATE:20260519
DTEND;VALUE=DATE:20260520
SUMMARY:Annual Council Meeting &#8211\\; 19 May 2026
DESCRIPTION:Annual Council Meeting\nView details: https://doddiscombsleighparishcouncil.gov.uk/meetings/annual-council-meeting-19-may-2026/
URL:https://doddiscombsleighparishcouncil.gov.uk/meetings/annual-council-meeting-19-may-2026/
END:VEVENT
END:VCALENDAR
